BEGIN:VCALENDAR
VERSION:2.0
PRODID:-//Listuddens Koloniträdgårdsförening - ECPv6.15.17.1//NONSGML v1.0//EN
CALSCALE:GREGORIAN
METHOD:PUBLISH
X-ORIGINAL-URL:https://listudden.se
X-WR-CALDESC:Händelser för Listuddens Koloniträdgårdsförening
REFRESH-INTERVAL;VALUE=DURATION:PT1H
X-Robots-Tag:noindex
X-PUBLISHED-TTL:PT1H
BEGIN:VTIMEZONE
TZID:UTC
BEGIN:STANDARD
TZOFFSETFROM:+0000
TZOFFSETTO:+0000
TZNAME:UTC
DTSTART:20250101T000000
END:STANDARD
END:VTIMEZONE
BEGIN:VEVENT
DTSTART;TZID=UTC:20260406T080000
DTEND;TZID=UTC:20260406T170000
DTSTAMP:20260421T190024
CREATED:20260406T091116Z
LAST-MODIFIED:20260406T091116Z
UID:2624-1775462400-1775494800@listudden.se
SUMMARY:Gemensamt arbete 2 maj
DESCRIPTION:Lördag 2 maj är det dags för första GA-dagen. Vi samlas vid föreningshuset 10.00
URL:https://listudden.se/kalendarium/gemensamt-arbete-2-maj/
END:VEVENT
BEGIN:VEVENT
DTSTART;TZID=UTC:20260406T080000
DTEND;TZID=UTC:20260406T170000
DTSTAMP:20260421T190024
CREATED:20260406T091358Z
LAST-MODIFIED:20260406T091358Z
UID:2626-1775462400-1775494800@listudden.se
SUMMARY:Containrar 9 maj
DESCRIPTION:Containrar för grovsopor finns på plats 9 maj. Ingen el\, inga stenar\, inga kemikalier\, färg eller bildäck heller
URL:https://listudden.se/kalendarium/containrar-9-maj/
END:VEVENT
BEGIN:VEVENT
DTSTART;TZID=UTC:20260406T080000
DTEND;TZID=UTC:20260406T170000
DTSTAMP:20260421T190024
CREATED:20260406T092212Z
LAST-MODIFIED:20260406T092212Z
UID:2628-1775462400-1775494800@listudden.se
SUMMARY:31 maj. Bella Linde föreläser om hur du sköter en kompost på bästa sätt.
DESCRIPTION:Föreningshuset 11.00 \nKompost – vägen till en bättre jord\nTrädgårdens hjärta\, det svarta guldet\, täppans eget återvinningssystem … Att kompostera är mer än bara ett sätt att ta hand om köksavfall och trädgårdsskräp\n– det är kärlek till jorden\, kärnan i ett hållbart kretslopp och konsten att omvandla avfall till livgivande mull. \nFörfattaren Bella Linde går igenom fördelarna och glädjen med kompostering\, och inte minst ett antal metoder som gör att du aldrig behöver lida brist på mylla full av mikroliv. Klassisk trädgårdskompost\, kökskompost och lövkompost är självklara\, dessutom tangeras ytterligare ett antal kompostvarianter. Med konkreta tips kring hur du får processen att fungera\, liksom anvisningar för att rädda en havererad kompost\, får du kunskaperna som gör att du själv kan skapa den underbara mull som kallas trädgårdens guld – komposten. \nBella Linde är frilansjournalist och författare med ett tiotal trädgårdsböcker och mängder av tidningsartiklar bakom sig. \nHon är en av drivkrafterna bakom podden Odla! med Maj-Lis och Bella och är också en uppskattad föredragshållare och moderator. \nMed boken Kompost – vägen till en bättre jord följer hon upp succéer som Rätt ur jorden – handbok i självhushållning och Odla utan spade – lättskött och klimatsmart köksträdgård. \nBella pendlar mellan familjens lägenhet i Stockholm och en liten gård utanför Malmköping i Sörmland\, där hon har byggt upp en köksträdgård med no dig-bäddar.
URL:https://listudden.se/kalendarium/31-maj-bella-linde-forelaser-om-hur-du-skoter-en-kompost-pa-basta-satt/
END:VEVENT
END:VCALENDAR