BEGIN:VCALENDAR
VERSION:2.0
PRODID:-//Listuddens Koloniträdgårdsförening - ECPv6.15.17.1//NONSGML v1.0//EN
CALSCALE:GREGORIAN
METHOD:PUBLISH
X-WR-CALNAME:Listuddens Koloniträdgårdsförening
X-ORIGINAL-URL:https://listudden.se
X-WR-CALDESC:Händelser för Listuddens Koloniträdgårdsförening
REFRESH-INTERVAL;VALUE=DURATION:PT1H
X-Robots-Tag:noindex
X-PUBLISHED-TTL:PT1H
BEGIN:VTIMEZONE
TZID:UTC
BEGIN:STANDARD
TZOFFSETFROM:+0000
TZOFFSETTO:+0000
TZNAME:UTC
DTSTART:20240101T000000
END:STANDARD
END:VTIMEZONE
BEGIN:VEVENT
DTSTART;TZID=UTC:20250715T183000
DTEND;TZID=UTC:20250715T193000
DTSTAMP:20260421T234205
CREATED:20250607T100703Z
LAST-MODIFIED:20250607T100703Z
UID:1866-1752604200-1752607800@listudden.se
SUMMARY:Idrottsföreningens årsmöte
DESCRIPTION:Tisdagen den 15/7 kl. 18:30 vid klubbhuset (fotbollsplanen) \nVälkomna \nAlla som har en kolonilott på Listudden är medlemmar.
URL:https://listudden.se/kalendarium/idrottsforeningens-arsmote/
END:VEVENT
BEGIN:VEVENT
DTSTART;TZID=UTC:20250727T000000
DTEND;TZID=UTC:20250727T235959
DTSTAMP:20260421T234205
CREATED:20250602T200325Z
LAST-MODIFIED:20250708T093750Z
UID:1829-1753574400-1753660799@listudden.se
SUMMARY:Listuddens dag
DESCRIPTION:Listuddens dag. \nSöndagen 27/7 \nLoppis och Hantverk vid föreningshuset kl 11:00 -14:00. \nBokning av plats/bord görs till Eva Hoftberg mail evahoffis@hotmail.com \neller på tel 073-6502485. \nBoka först\, betala sedan 20 kr till swich nr 123 685 92 01 eller kontant på plats. \nOBS! Jämna pengar \n  \n  \n 
URL:https://listudden.se/kalendarium/listuddens-dag/
END:VEVENT
END:VCALENDAR