BEGIN:VCALENDAR
VERSION:2.0
PRODID:-//Listuddens Koloniträdgårdsförening - ECPv6.15.17.1//NONSGML v1.0//EN
CALSCALE:GREGORIAN
METHOD:PUBLISH
X-WR-CALNAME:Listuddens Koloniträdgårdsförening
X-ORIGINAL-URL:https://listudden.se
X-WR-CALDESC:Händelser för Listuddens Koloniträdgårdsförening
REFRESH-INTERVAL;VALUE=DURATION:PT1H
X-Robots-Tag:noindex
X-PUBLISHED-TTL:PT1H
BEGIN:VTIMEZONE
TZID:UTC
BEGIN:STANDARD
TZOFFSETFROM:+0000
TZOFFSETTO:+0000
TZNAME:UTC
DTSTART:20240101T000000
END:STANDARD
END:VTIMEZONE
BEGIN:VEVENT
DTSTART;TZID=UTC:20250802T170000
DTEND;TZID=UTC:20250802T230000
DTSTAMP:20260421T214650
CREATED:20250527T163346Z
LAST-MODIFIED:20250630T170300Z
UID:1641-1754154000-1754175600@listudden.se
SUMMARY:Listudden fyller 80år
DESCRIPTION:Vi firar att Listuddens koloniområde fyller hela 80 härliga år!\nDå området grundades år 1945 och började blomstra på 50-talet så blir det fest med tema 50-tal! Liveband\, dans\, aktiviteter\, pub\, mingelmiddag (obs förköp\, se nedan)\, med mera. Klädsel valfri\, gärna 50-tal. Festen är uppdelad i två delar\, en med förköp och en öppen för alla våra kolonister. Evenemanget riktar sig enbart till Listuddens kolonister. \nDatum: 2:a Augusti 2025 Tid: 17-23 Plats: Festplatsen \nPass 1\nKl.17-20 OBS FÖRKÖP! Mingelmiddag med underhållning\n-17:00. Välkomstdrink och mingel.\n-17:00. A cappellakören More Sound.\n-17:30-18:30. Mat från Gurras Goda serveras i tre olika omgångar. Ståbord och mingel. Vi guidas av hålligånggubben Sten Hellström.\n-18:45. Nybörjarkurs i bugg med Maria Bild från Lets dance. 1h.\n-20:00. Boiler Makers band\, dans och Pub. \nPass 2\nKl. 20-23 Fest för alla kolonister\n-20:00. Festområdet öppnar för alla Listuddens kolonister. Ingen förbokning behövs för att komma på denna del.\n-Boiler Makers band spelar.\n-Pub/bar.\n-Dans och fest.\n-23:00. Slut.\nAlkoholförsäljning sker endast till våra medlemmar \nMiddagsbokning:\nDet finns ett begränsat antal middagsbiljetter tillgängliga att köpa i expeditionen lördagar 11-12 samt på sommarmötet 29/6. \nSjälvkostnadspris 225:-. Först till kvarn!\n \nVälj meny och välj mellan kött\, vegetariskt\, veganskt\, glutenfritt\, laktosfritt! \n\nMeny:\n-Alternativ 1: Gurras burgare med lingoncoleslaw\, picklad rödlök\, ostcreme och bröd. Serveras med strips. \n-Alternativ 2: Tunnbrödsrulle\, stompad potatis med kabanos eller grillkorv\, Coleslaw\, och sallad. \nDet ingår två enheter dryck. Vin\, öl eller alkoholfritt. Kaffe och mintkaka ingår. \nVarmt välkomna att fira 80årsjubileumet av Listuddens koliniträdgårdsförening! \n 
URL:https://listudden.se/kalendarium/listudden-fyller-80ar/
LOCATION:Dansbanan
END:VEVENT
END:VCALENDAR