BEGIN:VCALENDAR
VERSION:2.0
PRODID:-//Listuddens Koloniträdgårdsförening - ECPv6.15.17.1//NONSGML v1.0//EN
CALSCALE:GREGORIAN
METHOD:PUBLISH
X-WR-CALNAME:Listuddens Koloniträdgårdsförening
X-ORIGINAL-URL:https://listudden.se
X-WR-CALDESC:Händelser för Listuddens Koloniträdgårdsförening
REFRESH-INTERVAL;VALUE=DURATION:PT1H
X-Robots-Tag:noindex
X-PUBLISHED-TTL:PT1H
BEGIN:VTIMEZONE
TZID:UTC
BEGIN:STANDARD
TZOFFSETFROM:+0000
TZOFFSETTO:+0000
TZNAME:UTC
DTSTART:20240101T000000
END:STANDARD
END:VTIMEZONE
BEGIN:VEVENT
DTSTART;TZID=UTC:20250906T100000
DTEND;TZID=UTC:20250906T140000
DTSTAMP:20260421T200730
CREATED:20250726T085150Z
LAST-MODIFIED:20250726T085150Z
UID:2418-1757152800-1757167200@listudden.se
SUMMARY:GA II
DESCRIPTION:6:e september är det dags för årets sista GA-tillfälle. \nDe som ännu inte hunnit göra sin kvot av gemensamt arbete samlas vid föreningshuset 10.00. \nTa gärna med egna arbetshandskar och eventuella verktyg ni tror kan behövas. \n(Det är förstås tillåtet att komma och vara med även om man så att säga\, redan gjort sitt.) \n 
URL:https://listudden.se/kalendarium/ga-ii/
END:VEVENT
BEGIN:VEVENT
DTSTART;TZID=UTC:20250906T180000
DTEND;TZID=UTC:20250906T230000
DTSTAMP:20260421T200730
CREATED:20250821T204142Z
LAST-MODIFIED:20250903T203228Z
UID:2426-1757181600-1757199600@listudden.se
SUMMARY:Pubkväll med musikquiz och karaoke
DESCRIPTION:Pubkväll med musikquiz och karaoke. \nLördagen 6/9 i föreningshuset kl 18:00-23:00. \nDet säljs dryck\, snacks och korv. \nVälkomna! \nListuddens Kulturkommitté \n 
URL:https://listudden.se/kalendarium/pubkvall-med-musikquiz-och-karaoke/
LOCATION:Föreningshuset
END:VEVENT
END:VCALENDAR